BEGIN:VCALENDAR
VERSION:2.0
PRODID:-//The Museum of Methodism &amp; John Wesley&#039;s House - ECPv5.12.0//NONSGML v1.0//EN
CALSCALE:GREGORIAN
METHOD:PUBLISH
X-WR-CALNAME:The Museum of Methodism &amp; John Wesley&#039;s House
X-ORIGINAL-URL:https://wesleysheritage.org.uk
X-WR-CALDESC:Events for The Museum of Methodism &amp; John Wesley&#039;s House
BEGIN:VTIMEZONE
TZID:Europe/London
BEGIN:DAYLIGHT
TZOFFSETFROM:+0000
TZOFFSETTO:+0100
TZNAME:BST
DTSTART:20190331T010000
END:DAYLIGHT
BEGIN:STANDARD
TZOFFSETFROM:+0100
TZOFFSETTO:+0000
TZNAME:GMT
DTSTART:20191027T010000
END:STANDARD
END:VTIMEZONE
BEGIN:VEVENT
DTSTART;TZID=Europe/London:20190518T140000
DTEND;TZID=Europe/London:20190518T170000
DTSTAMP:20260419T144331
CREATED:20190517T080511Z
LAST-MODIFIED:20190517T090023Z
UID:37237-1558188000-1558198800@wesleysheritage.org.uk
SUMMARY:District Celebration - Moving Stories
DESCRIPTION:We’re very excited about our District Celebration on Saturday 18 May at Wesley’s Chapel.  The President and Vice President of Conference will be joined by Onjali Rauf\, author of the ‘Boy at the Back of the Class’ and winner of: Waterstone’s Book Prize 2019 and Blue Peter Book of the Year 2019.  The Nigerian Fellowship Choir will be helping us celebrate\, and you can view the Moving Stories ‘Transitions’ art exhibition. The art exhibition will be open from 12.30pm\, with the celebration kicking off at 2pm – we hope to see you there! \nClick here for more information about the day.
URL:https://wesleysheritage.org.uk/event/district-celebration-moving-stories/
LOCATION:Wesley’s Chapel and Leysian Mission 2\, 49 City Road\, London\, EC1Y 1AU\, United Kingdom
CATEGORIES:Community
END:VEVENT
END:VCALENDAR