BEGIN:VCALENDAR
VERSION:2.0
PRODID:-//The Museum of Methodism &amp; John Wesley&#039;s House - ECPv5.12.0//NONSGML v1.0//EN
CALSCALE:GREGORIAN
METHOD:PUBLISH
X-WR-CALNAME:The Museum of Methodism &amp; John Wesley&#039;s House
X-ORIGINAL-URL:https://wesleysheritage.org.uk
X-WR-CALDESC:Events for The Museum of Methodism &amp; John Wesley&#039;s House
BEGIN:VTIMEZONE
TZID:Europe/London
BEGIN:DAYLIGHT
TZOFFSETFROM:+0000
TZOFFSETTO:+0100
TZNAME:BST
DTSTART:20170326T010000
END:DAYLIGHT
BEGIN:STANDARD
TZOFFSETFROM:+0100
TZOFFSETTO:+0000
TZNAME:GMT
DTSTART:20171029T010000
END:STANDARD
END:VTIMEZONE
BEGIN:VEVENT
DTSTART;TZID=Europe/London:20170808T130500
DTEND;TZID=Europe/London:20170808T135000
DTSTAMP:20260420T095647
CREATED:20170614T203826Z
LAST-MODIFIED:20170621T233809Z
UID:33376-1502197500-1502200200@wesleysheritage.org.uk
SUMMARY:Lunchtime Recital
DESCRIPTION:
URL:https://wesleysheritage.org.uk/event/lunchtime-recital-8/
LOCATION:Wesley’s Chapel and Leysian Mission 1\, 49 City Road\, London\, EC1Y 1AU\, United Kingdom
CATEGORIES:Music
END:VEVENT
END:VCALENDAR