BEGIN:VCALENDAR
VERSION:2.0
PRODID:-//The Museum of Methodism &amp; John Wesley&#039;s House - ECPv5.12.0//NONSGML v1.0//EN
CALSCALE:GREGORIAN
METHOD:PUBLISH
X-WR-CALNAME:The Museum of Methodism &amp; John Wesley&#039;s House
X-ORIGINAL-URL:https://wesleysheritage.org.uk
X-WR-CALDESC:Events for The Museum of Methodism &amp; John Wesley&#039;s House
BEGIN:VTIMEZONE
TZID:Europe/London
BEGIN:DAYLIGHT
TZOFFSETFROM:+0000
TZOFFSETTO:+0100
TZNAME:BST
DTSTART:20190331T010000
END:DAYLIGHT
BEGIN:STANDARD
TZOFFSETFROM:+0100
TZOFFSETTO:+0000
TZNAME:GMT
DTSTART:20191027T010000
END:STANDARD
END:VTIMEZONE
BEGIN:VEVENT
DTSTART;TZID=Europe/London:20190921T110000
DTEND;TZID=Europe/London:20190921T150000
DTSTAMP:20260419T151046
CREATED:20190829T114227Z
LAST-MODIFIED:20190829T114227Z
UID:37320-1569063600-1569078000@wesleysheritage.org.uk
SUMMARY:Open Day - John Wesley's House
DESCRIPTION:Explore this rare Georgian townhouse\, the former home of John Wesley. \nDuring this free open day\, you will be able to explore 4 floors of John Wesley’s House and meet its Georgian residents. Many of the original features and artefacts remain in tact. The Chapel and Museum will also be open to visit.
URL:https://wesleysheritage.org.uk/event/open-day-john-wesleys-house/
LOCATION:John Wesley’s House\, 49 City Road\, London\, EC1Y 1AU\, United Kingdom
CATEGORIES:Wesley's House
ATTACH;FMTTYPE=image/jpeg:https://wesleysheritage.org.uk/os/wp-content/uploads/2019/08/JW-black-and-white.jpg
END:VEVENT
END:VCALENDAR