BEGIN:VCALENDAR
VERSION:2.0
PRODID:-//The Museum of Methodism &amp; John Wesley&#039;s House - ECPv5.12.0//NONSGML v1.0//EN
CALSCALE:GREGORIAN
METHOD:PUBLISH
X-WR-CALNAME:The Museum of Methodism &amp; John Wesley&#039;s House
X-ORIGINAL-URL:https://wesleysheritage.org.uk
X-WR-CALDESC:Events for The Museum of Methodism &amp; John Wesley&#039;s House
BEGIN:VTIMEZONE
TZID:Europe/London
BEGIN:DAYLIGHT
TZOFFSETFROM:+0000
TZOFFSETTO:+0100
TZNAME:BST
DTSTART:20190331T010000
END:DAYLIGHT
BEGIN:STANDARD
TZOFFSETFROM:+0100
TZOFFSETTO:+0000
TZNAME:GMT
DTSTART:20191027T010000
END:STANDARD
END:VTIMEZONE
BEGIN:VEVENT
DTSTART;TZID=Europe/London:20191023T110000
DTEND;TZID=Europe/London:20191023T150000
DTSTAMP:20260419T182730
CREATED:20190830T100834Z
LAST-MODIFIED:20190920T133331Z
UID:37325-1571828400-1571842800@wesleysheritage.org.uk
SUMMARY:Secret Life of John Wesley
DESCRIPTION:This October half-term visit the House to experience life in the past! Meet the Georgians and try traditional crafts such as lace making and sample Georgian recipes. Our family activity will be ‘Lotions and Potions’ where you will be able to make some medicinal potions as recommended by John Wesley!\nFree entry\, 11-3
URL:https://wesleysheritage.org.uk/event/secret-life-of-john-wesley-15/
LOCATION:John Wesley’s House\, 49 City Road\, London\, EC1Y 1AU\, United Kingdom
CATEGORIES:Wesley's House
ATTACH;FMTTYPE=image/jpeg:https://wesleysheritage.org.uk/os/wp-content/uploads/2019/08/23-Oct-image.jpg
END:VEVENT
END:VCALENDAR