BEGIN:VCALENDAR
VERSION:2.0
PRODID:-//The Museum of Methodism &amp; John Wesley&#039;s House - ECPv5.12.0//NONSGML v1.0//EN
CALSCALE:GREGORIAN
METHOD:PUBLISH
X-WR-CALNAME:The Museum of Methodism &amp; John Wesley&#039;s House
X-ORIGINAL-URL:https://wesleysheritage.org.uk
X-WR-CALDESC:Events for The Museum of Methodism &amp; John Wesley&#039;s House
BEGIN:VTIMEZONE
TZID:Europe/London
BEGIN:DAYLIGHT
TZOFFSETFROM:+0000
TZOFFSETTO:+0100
TZNAME:BST
DTSTART:20170326T010000
END:DAYLIGHT
BEGIN:STANDARD
TZOFFSETFROM:+0100
TZOFFSETTO:+0000
TZNAME:GMT
DTSTART:20171029T010000
END:STANDARD
END:VTIMEZONE
BEGIN:VEVENT
DTSTART;TZID=Europe/London:20171127T140000
DTEND;TZID=Europe/London:20171127T153000
DTSTAMP:20260420T111218
CREATED:20170614T204446Z
LAST-MODIFIED:20171122T233526Z
UID:33548-1511791200-1511796600@wesleysheritage.org.uk
SUMMARY:Sisterhood
DESCRIPTION:
URL:https://wesleysheritage.org.uk/event/sisterhood-24/
LOCATION:Wesley’s Chapel and Leysian Mission 2\, 49 City Road\, London\, EC1Y 1AU\, United Kingdom
CATEGORIES:Community
END:VEVENT
END:VCALENDAR