BEGIN:VCALENDAR
VERSION:2.0
PRODID:-//The Museum of Methodism &amp; John Wesley&#039;s House - ECPv5.12.0//NONSGML v1.0//EN
CALSCALE:GREGORIAN
METHOD:PUBLISH
X-WR-CALNAME:The Museum of Methodism &amp; John Wesley&#039;s House
X-ORIGINAL-URL:https://wesleysheritage.org.uk
X-WR-CALDESC:Events for The Museum of Methodism &amp; John Wesley&#039;s House
BEGIN:VTIMEZONE
TZID:Europe/London
BEGIN:DAYLIGHT
TZOFFSETFROM:+0000
TZOFFSETTO:+0100
TZNAME:BST
DTSTART:20170326T010000
END:DAYLIGHT
BEGIN:STANDARD
TZOFFSETFROM:+0100
TZOFFSETTO:+0000
TZNAME:GMT
DTSTART:20171029T010000
END:STANDARD
END:VTIMEZONE
BEGIN:VEVENT
DTSTART;TZID=Europe/London:20171126T190000
DTEND;TZID=Europe/London:20171126T200000
DTSTAMP:20260419T130041
CREATED:20170614T204445Z
LAST-MODIFIED:20171122T233525Z
UID:33546-1511722800-1511726400@wesleysheritage.org.uk
SUMMARY:Taizé Evening Prayer Service
DESCRIPTION:An opportunity to worship\, pray & meditate together for peace\, harmony & healing.
URL:https://wesleysheritage.org.uk/event/taize-evening-prayer-service-6/
LOCATION:Wesley’s Chapel and Leysian Mission 2\, 49 City Road\, London\, EC1Y 1AU\, United Kingdom
CATEGORIES:Services
END:VEVENT
END:VCALENDAR